BEGIN:VCALENDAR
VERSION:2.0
PRODID:-//Plone.org//NONSGML plone.app.event//EN
X-WR-TIMEZONE:Europe/Zurich
BEGIN:VEVENT
SUMMARY:Maturareisen 6. Gym
DTSTART;VALUE=DATE:20190926
DTEND;VALUE=DATE:20191005
DTSTAMP;VALUE=DATE-TIME:20260424T004823Z
UID:c3164de1ef9f4caba0391cf29132b2ac@127.0.0.1:10150
CREATED;VALUE=DATE-TIME:20190707T113022Z
LAST-MODIFIED;VALUE=DATE-TIME:20190707T113027Z
URL:https://gymnasium.ai.ch/nuetzliches/termine/maturareisen-6-gym
END:VEVENT
END:VCALENDAR
