BEGIN:VCALENDAR
VERSION:2.0
PRODID:-//Plone.org//NONSGML plone.app.event//EN
X-WR-TIMEZONE:Europe/Zurich
BEGIN:VEVENT
SUMMARY:Maturareisen 6. Klassen
DTSTART;VALUE=DATE:20200925
DTEND;VALUE=DATE:20201004
DTSTAMP;VALUE=DATE-TIME:20260423T231617Z
UID:96974a7212d9453ab566fc084086dba1@127.0.0.1:10150
CREATED;VALUE=DATE-TIME:20200925T144451Z
LAST-MODIFIED;VALUE=DATE-TIME:20200925T171753Z
URL:https://gymnasium.ai.ch/nuetzliches/termine/maturareisen-6-klasse
END:VEVENT
END:VCALENDAR
