BEGIN:VCALENDAR
VERSION:2.0
PRODID:-//Plone.org//NONSGML plone.app.event//EN
X-WR-TIMEZONE:Europe/Zurich
BEGIN:VEVENT
SUMMARY:Maturareisen 6. Klassen
DTSTART;VALUE=DATE:20230929
DTEND;VALUE=DATE:20231009
DTSTAMP;VALUE=DATE-TIME:20260424T004851Z
UID:5926dc96803b4370a3fd67b9c0d3105a@127.0.0.1:6081
CREATED;VALUE=DATE-TIME:20230712T083642Z
LAST-MODIFIED;VALUE=DATE-TIME:20230712T083648Z
URL:https://gymnasium.ai.ch/nuetzliches/termine/maturareisen-6-klassen-1
END:VEVENT
END:VCALENDAR
