BEGIN:VCALENDAR
VERSION:2.0
PRODID:-//Plone.org//NONSGML plone.app.event//EN
X-WR-TIMEZONE:Europe/Zurich
BEGIN:VEVENT
SUMMARY:Maturareisen 6. Klassen
DTSTART;VALUE=DATE:20240927
DTEND;VALUE=DATE:20241007
DTSTAMP;VALUE=DATE-TIME:20260424T020022Z
UID:7f804fe9c9d341879925658475767d35@127.0.0.1:6081
CREATED;VALUE=DATE-TIME:20240703T205140Z
LAST-MODIFIED;VALUE=DATE-TIME:20240703T205146Z
URL:https://gymnasium.ai.ch/nuetzliches/termine/maturareisen-6-klassen-2
END:VEVENT
END:VCALENDAR
