BEGIN:VCALENDAR
VERSION:2.0
PRODID:-//Plone.org//NONSGML plone.app.event//EN
X-WR-TIMEZONE:Europe/Zurich
BEGIN:VEVENT
SUMMARY:Maturareisen 6. Klassen
DTSTART;VALUE=DATE:20250926
DTEND;VALUE=DATE:20251006
DTSTAMP;VALUE=DATE-TIME:20260424T004823Z
UID:a9621ff154ed4788a3d0ea9f2c4c5f2e@127.0.0.1:6081
CREATED;VALUE=DATE-TIME:20250719T152331Z
LAST-MODIFIED;VALUE=DATE-TIME:20250719T152337Z
URL:https://gymnasium.ai.ch/nuetzliches/termine/maturareisen-6-klassen-3
END:VEVENT
END:VCALENDAR
