BEGIN:VCALENDAR
VERSION:2.0
PRODID:-//Plone.org//NONSGML plone.app.event//EN
X-WR-TIMEZONE:Europe/Zurich
BEGIN:VEVENT
SUMMARY:Maturareisen 6. Klassen
DTSTART;VALUE=DATE:20220930
DTEND;VALUE=DATE:20221010
DTSTAMP;VALUE=DATE-TIME:20260423T231616Z
UID:bea0021cfd434a6288c68410827b6f1f@127.0.0.1:6081
CREATED;VALUE=DATE-TIME:20220921T074623Z
LAST-MODIFIED;VALUE=DATE-TIME:20220921T074631Z
URL:https://gymnasium.ai.ch/nuetzliches/termine/maturareisen-6-klassen
END:VEVENT
END:VCALENDAR
