BEGIN:VCALENDAR
VERSION:2.0
PRODID:-//Plone.org//NONSGML plone.app.event//EN
X-WR-TIMEZONE:Europe/Zurich
BEGIN:VEVENT
SUMMARY:Maturareisen
DTSTART;VALUE=DATE-TIME:20180329T150000Z
DTSTAMP;VALUE=DATE-TIME:20260423T231512Z
UID:d177133f9ecb497294d929e30f85918f@127.0.0.1:10150
CREATED;VALUE=DATE-TIME:20180301T065744Z
DESCRIPTION:Abgabe Feinkonzept mit Wochenprogramm und Budget Maturareisen 
 (5. Klasse)
LAST-MODIFIED;VALUE=DATE-TIME:20180301T065748Z
URL:https://gymnasium.ai.ch/nuetzliches/termine/maturareisen
END:VEVENT
END:VCALENDAR
