BEGIN:VCALENDAR
VERSION:2.0
PRODID:-//Plone.org//NONSGML plone.app.event//EN
X-WR-TIMEZONE:Europe/Zurich
BEGIN:VEVENT
SUMMARY:Maturitätsfeier
DTSTART;TZID=Europe/Zurich;VALUE=DATE-TIME:20260619T170000
DTEND;TZID=Europe/Zurich;VALUE=DATE-TIME:20260619T183000
DTSTAMP;VALUE=DATE-TIME:20260424T005258Z
UID:fc5677dac01e4cddadf535be8c2d03fe@127.0.0.1:6081
CREATED;VALUE=DATE-TIME:20250720T194548Z
LAST-MODIFIED;VALUE=DATE-TIME:20250720T194552Z
URL:https://gymnasium.ai.ch/nuetzliches/termine/maturitaetsfeier
END:VEVENT
BEGIN:VTIMEZONE
TZID:Europe/Zurich
X-LIC-LOCATION:Europe/Zurich
BEGIN:DAYLIGHT
DTSTART;VALUE=DATE-TIME:20260329T030000
TZNAME:CEST
TZOFFSETFROM:+0100
TZOFFSETTO:+0200
END:DAYLIGHT
END:VTIMEZONE
END:VCALENDAR
