BEGIN:VCALENDAR
VERSION:2.0
PRODID:-//Plone.org//NONSGML plone.app.event//EN
X-WR-TIMEZONE:Europe/Zurich
BEGIN:VEVENT
SUMMARY:Medizinstudium: Anmeldeschluss für Zulassungsverfahren 2020
DTSTART;VALUE=DATE:20200214
DTEND;VALUE=DATE:20200216
DTSTAMP;VALUE=DATE-TIME:20260424T021229Z
UID:0274a0883327406fb8caa98ba86b6c90@127.0.0.1:10150
CREATED;VALUE=DATE-TIME:20191030T142111Z
LAST-MODIFIED;VALUE=DATE-TIME:20191030T142116Z
URL:https://gymnasium.ai.ch/nuetzliches/termine/medizinstudium-anmeldeschl
 uss-fuer-zulassungsverfahren-2020
END:VEVENT
END:VCALENDAR
