BEGIN:VCALENDAR
VERSION:2.0
PRODID:-//Plone.org//NONSGML plone.app.event//EN
X-WR-TIMEZONE:Europe/Zurich
BEGIN:VEVENT
SUMMARY:Medizinstudium: EMS-Test Probeprüfung an der KS Trogen
DTSTART;VALUE=DATE-TIME:20220620T070000Z
DTEND;VALUE=DATE-TIME:20220620T140000Z
DTSTAMP;VALUE=DATE-TIME:20260423T231829Z
UID:ed48a70dca6b47a2acc5dd6ec730262d@127.0.0.1:10150
CREATED;VALUE=DATE-TIME:20220608T142419Z
LAST-MODIFIED;VALUE=DATE-TIME:20220608T142423Z
URL:https://gymnasium.ai.ch/nuetzliches/termine/medizinstudium-ems-test-pr
 obepruefung-an-der-ks-trogen-1
END:VEVENT
END:VCALENDAR
