BEGIN:VCALENDAR
VERSION:2.0
PRODID:-//Plone.org//NONSGML plone.app.event//EN
X-WR-TIMEZONE:Europe/Zurich
BEGIN:VEVENT
SUMMARY:Medizinstudium: EMS-Test Probeprüfung an der KS Trogen
DTSTART;TZID=Europe/Vienna;VALUE=DATE-TIME:20230619T090000
DTEND;TZID=Europe/Vienna;VALUE=DATE-TIME:20230619T130000
DTSTAMP;VALUE=DATE-TIME:20260424T005431Z
UID:1c293b28c1694d59ba7ff7c2f4fbcfbf@127.0.0.1:6081
CREATED;VALUE=DATE-TIME:20230423T153111Z
LAST-MODIFIED;VALUE=DATE-TIME:20230423T153121Z
URL:https://gymnasium.ai.ch/nuetzliches/termine/medizinstudium-ems-test-pr
 obepruefung-an-der-ks-trogen-2
END:VEVENT
BEGIN:VTIMEZONE
TZID:Europe/Vienna
X-LIC-LOCATION:Europe/Vienna
BEGIN:DAYLIGHT
DTSTART;VALUE=DATE-TIME:20230326T030000
TZNAME:CEST
TZOFFSETFROM:+0100
TZOFFSETTO:+0200
END:DAYLIGHT
END:VTIMEZONE
END:VCALENDAR
