BEGIN:VCALENDAR
VERSION:2.0
PRODID:-//Plone.org//NONSGML plone.app.event//EN
X-WR-TIMEZONE:Europe/Zurich
BEGIN:VEVENT
SUMMARY:Mitgliederversammlung FDKA\, Vernissage «Das Internat des Kollegi
 ums St. Antonius Appenzell (1908-2020)»
DTSTART;VALUE=DATE-TIME:20210903T163000Z
DTEND;VALUE=DATE-TIME:20210903T183000Z
DTSTAMP;VALUE=DATE-TIME:20260424T005534Z
UID:9406302cbbab43b2839201df95f482f4@127.0.0.1:10150
CREATED;VALUE=DATE-TIME:20210817T070424Z
DESCRIPTION:18.30 Uhr
LAST-MODIFIED;VALUE=DATE-TIME:20210817T070622Z
LOCATION:Gymnasium St. Antonius\, Appenzell
URL:https://gymnasium.ai.ch/nuetzliches/termine/mitgliederversammlung-fdka
 -vernissage-das-internat-des-kollegiums-st-antonius-appenzell-1908-2020
END:VEVENT
END:VCALENDAR
