BEGIN:VCALENDAR
VERSION:2.0
PRODID:-//Plone.org//NONSGML plone.app.event//EN
X-WR-TIMEZONE:Europe/Zurich
BEGIN:VEVENT
SUMMARY:Mitgliederversammlung FDKA
DTSTART;TZID=Europe/Vienna;VALUE=DATE-TIME:20230602T183000
DTSTAMP;VALUE=DATE-TIME:20260424T004609Z
UID:6e103a83dfb5477586466bc49ee8bdf0@127.0.0.1:6081
CREATED;VALUE=DATE-TIME:20230423T142957Z
LAST-MODIFIED;VALUE=DATE-TIME:20230423T143003Z
URL:https://gymnasium.ai.ch/nuetzliches/termine/mitgliederversammlung-fdka
END:VEVENT
BEGIN:VTIMEZONE
TZID:Europe/Vienna
X-LIC-LOCATION:Europe/Vienna
BEGIN:DAYLIGHT
DTSTART;VALUE=DATE-TIME:20230326T030000
TZNAME:CEST
TZOFFSETFROM:+0100
TZOFFSETTO:+0200
END:DAYLIGHT
END:VTIMEZONE
END:VCALENDAR
