BEGIN:VCALENDAR
VERSION:2.0
PRODID:-//Plone.org//NONSGML plone.app.event//EN
X-WR-TIMEZONE:Europe/Zurich
BEGIN:VEVENT
SUMMARY:Mittelschulinformationstag 6. Gym (Nachmittag)
DTSTART;VALUE=DATE-TIME:20191108T123000Z
DTEND;VALUE=DATE-TIME:20191108T153000Z
DTSTAMP;VALUE=DATE-TIME:20260424T004825Z
UID:cab3d4a00041407eae006c4d2f4a857b@127.0.0.1:10150
CREATED;VALUE=DATE-TIME:20190707T113550Z
LAST-MODIFIED;VALUE=DATE-TIME:20190707T113618Z
LOCATION:Foyer Gymnasium St. Antonius
URL:https://gymnasium.ai.ch/nuetzliches/termine/mittelschulinformationstag
 -6-gym-nachmittag
END:VEVENT
END:VCALENDAR
