BEGIN:VCALENDAR
VERSION:2.0
PRODID:-//Plone.org//NONSGML plone.app.event//EN
X-WR-TIMEZONE:Europe/Zurich
BEGIN:VEVENT
SUMMARY:Mittelschulinformationstag (6. Gym)
DTSTART;VALUE=DATE-TIME:20181109T123000Z
DTEND;VALUE=DATE-TIME:20181109T150000Z
DTSTAMP;VALUE=DATE-TIME:20260423T231512Z
UID:23ed87784952461e8070d117d4290646@127.0.0.1:10150
CREATED;VALUE=DATE-TIME:20180928T120756Z
LAST-MODIFIED;VALUE=DATE-TIME:20181109T145835Z
LOCATION:Foyer
URL:https://gymnasium.ai.ch/nuetzliches/termine/mittelschulinformationstag
 -6-gym
END:VEVENT
END:VCALENDAR
