BEGIN:VCALENDAR
VERSION:2.0
PRODID:-//Plone.org//NONSGML plone.app.event//EN
X-WR-TIMEZONE:Europe/Zurich
BEGIN:VEVENT
SUMMARY:6. Klassen: Mittelschulinformationstag (Nachmittag)
DTSTART;VALUE=DATE-TIME:20211105T124000Z
DTEND;VALUE=DATE-TIME:20211105T150000Z
DTSTAMP;VALUE=DATE-TIME:20260423T231559Z
UID:a18a9ace8b534565a23831beb245f6ba@127.0.0.1:10150
CREATED;VALUE=DATE-TIME:20210817T072120Z
LAST-MODIFIED;VALUE=DATE-TIME:20211105T102734Z
LOCATION:Foyer Gymnasium St. Antonius
URL:https://gymnasium.ai.ch/nuetzliches/termine/mittelschulinformationstag
 -6-klasse-nachmittag
END:VEVENT
END:VCALENDAR
