BEGIN:VCALENDAR
VERSION:2.0
PRODID:-//Plone.org//NONSGML plone.app.event//EN
X-WR-TIMEZONE:Europe/Zurich
BEGIN:VEVENT
SUMMARY:Mittelschulinformationstag (6. Klassen - Nachmittag)
DTSTART;TZID=Europe/Zurich;VALUE=DATE-TIME:20241115T133000
DTEND;TZID=Europe/Zurich;VALUE=DATE-TIME:20241115T160000
DTSTAMP;VALUE=DATE-TIME:20260423T231531Z
UID:21a632e3b2354293bba6200a448ffaf4@127.0.0.1:6081
CREATED;VALUE=DATE-TIME:20240703T200140Z
LAST-MODIFIED;VALUE=DATE-TIME:20240703T211921Z
URL:https://gymnasium.ai.ch/nuetzliches/termine/mittelschulinformationstag
 -6-klassen-1
END:VEVENT
BEGIN:VTIMEZONE
TZID:Europe/Zurich
X-LIC-LOCATION:Europe/Zurich
BEGIN:STANDARD
DTSTART;VALUE=DATE-TIME:20241027T020000
TZNAME:CET
TZOFFSETFROM:+0200
TZOFFSETTO:+0100
END:STANDARD
END:VTIMEZONE
END:VCALENDAR
