BEGIN:VCALENDAR
VERSION:2.0
PRODID:-//Plone.org//NONSGML plone.app.event//EN
X-WR-TIMEZONE:Europe/Zurich
BEGIN:VEVENT
SUMMARY:Abgesagt: Mittelschulinformationstag (Nachmittag): 6. Klassen
DTSTART;VALUE=DATE-TIME:20201106T123000Z
DTEND;VALUE=DATE-TIME:20201106T150000Z
DTSTAMP;VALUE=DATE-TIME:20260423T231513Z
UID:e93a10508d604129ad4e2fd65c627766@127.0.0.1:10150
CREATED;VALUE=DATE-TIME:20201007T122719Z
LAST-MODIFIED;VALUE=DATE-TIME:20201028T100253Z
LOCATION:Foyer\, Gymnasium St. Antonius
URL:https://gymnasium.ai.ch/nuetzliches/termine/mittelschulinformationstag
 -6-klassen
END:VEVENT
END:VCALENDAR
