BEGIN:VCALENDAR
VERSION:2.0
PRODID:-//Plone.org//NONSGML plone.app.event//EN
X-WR-TIMEZONE:Europe/Zurich
BEGIN:VEVENT
SUMMARY:Mündliche Maturitätsprüfungen
DTSTART;VALUE=DATE-TIME:20200616T050000Z
DTEND;VALUE=DATE-TIME:20200616T100000Z
DTSTAMP;VALUE=DATE-TIME:20260423T231514Z
UID:eff1a19a5bc944f38800aa8aebd752ef@127.0.0.1:10150
CREATED;VALUE=DATE-TIME:20200501T063356Z
LAST-MODIFIED;VALUE=DATE-TIME:20200603T202802Z
URL:https://gymnasium.ai.ch/nuetzliches/termine/muendliche-matura-1
END:VEVENT
END:VCALENDAR
