BEGIN:VCALENDAR
VERSION:2.0
PRODID:-//Plone.org//NONSGML plone.app.event//EN
X-WR-TIMEZONE:Europe/Zurich
BEGIN:VEVENT
SUMMARY:Mündliche Maturitätsprüfungen
DTSTART;VALUE=DATE-TIME:20200618T050000Z
DTEND;VALUE=DATE-TIME:20200618T100000Z
DTSTAMP;VALUE=DATE-TIME:20260424T005258Z
UID:80f63e6e89994d42867e444b9c8a44df@127.0.0.1:10150
CREATED;VALUE=DATE-TIME:20200501T063506Z
LAST-MODIFIED;VALUE=DATE-TIME:20200603T202902Z
URL:https://gymnasium.ai.ch/nuetzliches/termine/muendliche-matura-2
END:VEVENT
END:VCALENDAR
