BEGIN:VCALENDAR
VERSION:2.0
PRODID:-//Plone.org//NONSGML plone.app.event//EN
X-WR-TIMEZONE:Europe/Zurich
BEGIN:VEVENT
SUMMARY:Mündliche Maturitätsprüfungen
DTSTART;VALUE=DATE-TIME:20200619T050000Z
DTEND;VALUE=DATE-TIME:20200619T100000Z
DTSTAMP;VALUE=DATE-TIME:20260424T004725Z
UID:3ebf988b959f4c64b428d78d6713bf90@127.0.0.1:10150
CREATED;VALUE=DATE-TIME:20200501T063557Z
LAST-MODIFIED;VALUE=DATE-TIME:20200603T202933Z
URL:https://gymnasium.ai.ch/nuetzliches/termine/muendliche-matura-3
END:VEVENT
END:VCALENDAR
