BEGIN:VCALENDAR
VERSION:2.0
PRODID:-//Plone.org//NONSGML plone.app.event//EN
X-WR-TIMEZONE:Europe/Zurich
BEGIN:VEVENT
SUMMARY:Mündliche Maturitätsprüfungen
DTSTART;VALUE=DATE-TIME:20200615T050000Z
DTEND;VALUE=DATE-TIME:20200615T100000Z
DTSTAMP;VALUE=DATE-TIME:20260424T004726Z
UID:b51790b4d85746cfaedeb0aba244aa81@127.0.0.1:10150
CREATED;VALUE=DATE-TIME:20200501T063252Z
LAST-MODIFIED;VALUE=DATE-TIME:20200603T202733Z
URL:https://gymnasium.ai.ch/nuetzliches/termine/muendliche-matura
END:VEVENT
END:VCALENDAR
