BEGIN:VCALENDAR
VERSION:2.0
PRODID:-//Plone.org//NONSGML plone.app.event//EN
X-WR-TIMEZONE:Europe/Zurich
BEGIN:VEVENT
SUMMARY:Mündliche Maturaprüfungen
DTSTART;VALUE=DATE-TIME:20180614T053000Z
DTEND;VALUE=DATE-TIME:20180615T100000Z
DTSTAMP;VALUE=DATE-TIME:20260423T231655Z
UID:2b446f66d3f14cbba4d055fad9ff99f9@127.0.0.1:10150
CREATED;VALUE=DATE-TIME:20180307T094407Z
LAST-MODIFIED;VALUE=DATE-TIME:20180308T065056Z
URL:https://gymnasium.ai.ch/nuetzliches/termine/muendliche-maturapruefunge
 n-1
END:VEVENT
END:VCALENDAR
