BEGIN:VCALENDAR
VERSION:2.0
PRODID:-//Plone.org//NONSGML plone.app.event//EN
X-WR-TIMEZONE:Europe/Zurich
BEGIN:VEVENT
SUMMARY:Mündliche Maturaprüfungen
DTSTART;VALUE=DATE:20190610
DTEND;VALUE=DATE:20190612
DTSTAMP;VALUE=DATE-TIME:20260423T231616Z
UID:39a30e2ea4cb4edb9e796b25ecc2914d@127.0.0.1:10150
CREATED;VALUE=DATE-TIME:20181218T093203Z
LAST-MODIFIED;VALUE=DATE-TIME:20190608T053602Z
URL:https://gymnasium.ai.ch/nuetzliches/termine/muendliche-maturapruefunge
 n-2
END:VEVENT
END:VCALENDAR
