BEGIN:VCALENDAR
VERSION:2.0
PRODID:-//Plone.org//NONSGML plone.app.event//EN
X-WR-TIMEZONE:Europe/Zurich
BEGIN:VEVENT
SUMMARY:Mündliche Maturaprüfungen
DTSTART;VALUE=DATE-TIME:20190614T050000Z
DTEND;VALUE=DATE-TIME:20190614T100000Z
DTSTAMP;VALUE=DATE-TIME:20260424T004823Z
UID:d6087e2918ab48ceb56a19c0dc3b5591@127.0.0.1:10150
CREATED;VALUE=DATE-TIME:20181218T094245Z
LAST-MODIFIED;VALUE=DATE-TIME:20190131T074426Z
URL:https://gymnasium.ai.ch/nuetzliches/termine/muendliche-maturapruefunge
 n-4
END:VEVENT
END:VCALENDAR
