BEGIN:VCALENDAR
VERSION:2.0
PRODID:-//Plone.org//NONSGML plone.app.event//EN
X-WR-TIMEZONE:Europe/Zurich
BEGIN:VEVENT
SUMMARY:Mündliche Maturaprüfungen
DTSTART;VALUE=DATE:20190611
DTEND;VALUE=DATE:20190613
DTSTAMP;VALUE=DATE-TIME:20260424T004851Z
UID:67412d3ccb6046b6b4382c926ef7cd99@127.0.0.1:10150
CREATED;VALUE=DATE-TIME:20190608T053716Z
LAST-MODIFIED;VALUE=DATE-TIME:20190608T053721Z
URL:https://gymnasium.ai.ch/nuetzliches/termine/muendliche-maturapruefunge
 n-5
END:VEVENT
END:VCALENDAR
