BEGIN:VCALENDAR
VERSION:2.0
PRODID:-//Plone.org//NONSGML plone.app.event//EN
X-WR-TIMEZONE:Europe/Zurich
BEGIN:VEVENT
SUMMARY:mündliche Maturaprüfungen\, vormittags
DTSTART;TZID=Europe/Vienna;VALUE=DATE-TIME:20230612T070000
DTEND;TZID=Europe/Vienna;VALUE=DATE-TIME:20230612T120000
DTSTAMP;VALUE=DATE-TIME:20260424T004851Z
UID:68323e74a0a34a79ae6584b83bf2e824@127.0.0.1:6081
CREATED;VALUE=DATE-TIME:20221012T181307Z
LAST-MODIFIED;VALUE=DATE-TIME:20230423T080027Z
URL:https://gymnasium.ai.ch/nuetzliches/termine/muendliche-maturapruefunge
 n-6
END:VEVENT
BEGIN:VTIMEZONE
TZID:Europe/Vienna
X-LIC-LOCATION:Europe/Vienna
BEGIN:DAYLIGHT
DTSTART;VALUE=DATE-TIME:20230326T030000
TZNAME:CEST
TZOFFSETFROM:+0100
TZOFFSETTO:+0200
END:DAYLIGHT
END:VTIMEZONE
END:VCALENDAR
