BEGIN:VCALENDAR
VERSION:2.0
PRODID:-//Plone.org//NONSGML plone.app.event//EN
X-WR-TIMEZONE:Europe/Zurich
BEGIN:VEVENT
SUMMARY:mündliche Maturaprüfungen\, vormittags
DTSTART;TZID=Europe/Vienna;VALUE=DATE-TIME:20230614T070000
DTEND;TZID=Europe/Vienna;VALUE=DATE-TIME:20230614T120000
DTSTAMP;VALUE=DATE-TIME:20260424T004823Z
UID:9a7cc695225442209c7083b57516d917@127.0.0.1:6081
CREATED;VALUE=DATE-TIME:20221012T181508Z
LAST-MODIFIED;VALUE=DATE-TIME:20230423T080124Z
URL:https://gymnasium.ai.ch/nuetzliches/termine/muendliche-maturapruefunge
 n-7
END:VEVENT
BEGIN:VTIMEZONE
TZID:Europe/Vienna
X-LIC-LOCATION:Europe/Vienna
BEGIN:DAYLIGHT
DTSTART;VALUE=DATE-TIME:20230326T030000
TZNAME:CEST
TZOFFSETFROM:+0100
TZOFFSETTO:+0200
END:DAYLIGHT
END:VTIMEZONE
END:VCALENDAR
