BEGIN:VCALENDAR
VERSION:2.0
PRODID:-//Plone.org//NONSGML plone.app.event//EN
X-WR-TIMEZONE:Europe/Zurich
BEGIN:VEVENT
SUMMARY:mündliche Maturaprüfungen\, vormittags
DTSTART;VALUE=DATE-TIME:20210615T050000Z
DTEND;VALUE=DATE-TIME:20210615T100000Z
DTSTAMP;VALUE=DATE-TIME:20260424T020913Z
UID:bb762a5c92a543609ab2a56bb00d31dc@127.0.0.1:10150
CREATED;VALUE=DATE-TIME:20210417T145415Z
LAST-MODIFIED;VALUE=DATE-TIME:20210417T184627Z
URL:https://gymnasium.ai.ch/nuetzliches/termine/muendliche-maturapruefunge
 n-vormittags-1
END:VEVENT
END:VCALENDAR
