BEGIN:VCALENDAR
VERSION:2.0
PRODID:-//Plone.org//NONSGML plone.app.event//EN
X-WR-TIMEZONE:Europe/Zurich
BEGIN:VEVENT
SUMMARY:mündliche Maturaprüfungen\, vormittags
DTSTART;TZID=Europe/Zurich;VALUE=DATE-TIME:20240614T070000
DTEND;TZID=Europe/Zurich;VALUE=DATE-TIME:20240614T120000
DTSTAMP;VALUE=DATE-TIME:20260423T231829Z
UID:12c7749555b5453d8d1212dc43fbd334@127.0.0.1:6081
CREATED;VALUE=DATE-TIME:20240410T092108Z
LAST-MODIFIED;VALUE=DATE-TIME:20240410T092113Z
URL:https://gymnasium.ai.ch/nuetzliches/termine/muendliche-maturapruefunge
 n-vormittags-10
END:VEVENT
BEGIN:VTIMEZONE
TZID:Europe/Zurich
X-LIC-LOCATION:Europe/Zurich
BEGIN:DAYLIGHT
DTSTART;VALUE=DATE-TIME:20240331T030000
TZNAME:CEST
TZOFFSETFROM:+0100
TZOFFSETTO:+0200
END:DAYLIGHT
END:VTIMEZONE
END:VCALENDAR
