BEGIN:VCALENDAR
VERSION:2.0
PRODID:-//Plone.org//NONSGML plone.app.event//EN
X-WR-TIMEZONE:Europe/Zurich
BEGIN:VEVENT
SUMMARY:mündliche Maturaprüfungen\, vormittags
DTSTART;VALUE=DATE:20250616
DTEND;VALUE=DATE:20250617
DTSTAMP;VALUE=DATE-TIME:20260423T231828Z
UID:5aae900d0c8a4358a33ea67f7bf67491@127.0.0.1:6081
CREATED;VALUE=DATE-TIME:20240927T143723Z
LAST-MODIFIED;VALUE=DATE-TIME:20240927T143733Z
URL:https://gymnasium.ai.ch/nuetzliches/termine/muendliche-maturapruefunge
 n-vormittags-11
END:VEVENT
END:VCALENDAR
