BEGIN:VCALENDAR
VERSION:2.0
PRODID:-//Plone.org//NONSGML plone.app.event//EN
X-WR-TIMEZONE:Europe/Zurich
BEGIN:VEVENT
SUMMARY:mündliche Maturaprüfungen\, vormittags
DTSTART;VALUE=DATE:20250617
DTEND;VALUE=DATE:20250618
DTSTAMP;VALUE=DATE-TIME:20260423T231828Z
UID:e11b3a7c92c54297ae8b44808d212b29@127.0.0.1:6081
CREATED;VALUE=DATE-TIME:20240927T143839Z
LAST-MODIFIED;VALUE=DATE-TIME:20240927T143845Z
URL:https://gymnasium.ai.ch/nuetzliches/termine/muendliche-maturapruefunge
 n-vormittags-12
END:VEVENT
END:VCALENDAR
