BEGIN:VCALENDAR
VERSION:2.0
PRODID:-//Plone.org//NONSGML plone.app.event//EN
X-WR-TIMEZONE:Europe/Zurich
BEGIN:VEVENT
SUMMARY:mündliche Maturaprüfungen\, vormittags
DTSTART;VALUE=DATE-TIME:20210617T050000Z
DTEND;VALUE=DATE-TIME:20210617T100000Z
DTSTAMP;VALUE=DATE-TIME:20260424T020645Z
UID:ad0ffab1a1e94351ae9b4089866c83ba@127.0.0.1:10150
CREATED;VALUE=DATE-TIME:20210417T145610Z
LAST-MODIFIED;VALUE=DATE-TIME:20210417T184701Z
URL:https://gymnasium.ai.ch/nuetzliches/termine/muendliche-maturapruefunge
 n-vormittags-2
END:VEVENT
END:VCALENDAR
