BEGIN:VCALENDAR
VERSION:2.0
PRODID:-//Plone.org//NONSGML plone.app.event//EN
X-WR-TIMEZONE:Europe/Zurich
BEGIN:VEVENT
SUMMARY:mündliche Maturaprüfungen\, vormittags
DTSTART;VALUE=DATE-TIME:20210618T050000Z
DTEND;VALUE=DATE-TIME:20210618T100000Z
DTSTAMP;VALUE=DATE-TIME:20260424T004952Z
UID:234fb2c41fbe4a02ab7bccd12fc3ad05@127.0.0.1:10150
CREATED;VALUE=DATE-TIME:20210417T145747Z
LAST-MODIFIED;VALUE=DATE-TIME:20210417T184753Z
URL:https://gymnasium.ai.ch/nuetzliches/termine/muendliche-maturapruefunge
 n-vormittags-3
END:VEVENT
END:VCALENDAR
