BEGIN:VCALENDAR
VERSION:2.0
PRODID:-//Plone.org//NONSGML plone.app.event//EN
X-WR-TIMEZONE:Europe/Zurich
BEGIN:VEVENT
SUMMARY:mündliche Maturaprüfungen\, vormittags
DTSTART;VALUE=DATE-TIME:20220614T050000Z
DTEND;VALUE=DATE-TIME:20220614T100000Z
DTSTAMP;VALUE=DATE-TIME:20260424T004952Z
UID:b18bd99640584d06a885acdc8ec745d9@127.0.0.1:10150
CREATED;VALUE=DATE-TIME:20220118T130239Z
LAST-MODIFIED;VALUE=DATE-TIME:20220118T130243Z
URL:https://gymnasium.ai.ch/nuetzliches/termine/muendliche-maturapruefunge
 n-vormittags-4
END:VEVENT
END:VCALENDAR
