BEGIN:VCALENDAR
VERSION:2.0
PRODID:-//Plone.org//NONSGML plone.app.event//EN
X-WR-TIMEZONE:Europe/Zurich
BEGIN:VEVENT
SUMMARY:mündliche Maturaprüfungen\, vormittags
DTSTART;VALUE=DATE-TIME:20220615T050000Z
DTEND;VALUE=DATE-TIME:20220615T100000Z
DTSTAMP;VALUE=DATE-TIME:20260424T004951Z
UID:4cb25b866e2045799a22f9ed9b7cfed2@127.0.0.1:10150
CREATED;VALUE=DATE-TIME:20220118T130319Z
LAST-MODIFIED;VALUE=DATE-TIME:20220118T130322Z
URL:https://gymnasium.ai.ch/nuetzliches/termine/muendliche-maturapruefunge
 n-vormittags-5
END:VEVENT
END:VCALENDAR
