BEGIN:VCALENDAR
VERSION:2.0
PRODID:-//Plone.org//NONSGML plone.app.event//EN
X-WR-TIMEZONE:Europe/Zurich
BEGIN:VEVENT
SUMMARY:mündliche Maturaprüfungen\, vormittags
DTSTART;VALUE=DATE-TIME:20220617T050000Z
DTEND;VALUE=DATE-TIME:20220617T100000Z
DTSTAMP;VALUE=DATE-TIME:20260424T004951Z
UID:51e244dd97fa4d728aee1dd8670617f7@127.0.0.1:10150
CREATED;VALUE=DATE-TIME:20220118T130400Z
LAST-MODIFIED;VALUE=DATE-TIME:20220118T130403Z
URL:https://gymnasium.ai.ch/nuetzliches/termine/muendliche-maturapruefunge
 n-vormittags-6
END:VEVENT
END:VCALENDAR
