BEGIN:VCALENDAR
VERSION:2.0
PRODID:-//Plone.org//NONSGML plone.app.event//EN
X-WR-TIMEZONE:Europe/Zurich
BEGIN:VEVENT
SUMMARY:mündliche Maturaprüfungen\, vormittags
DTSTART;TZID=Europe/Zurich;VALUE=DATE-TIME:20240611T070000
DTEND;TZID=Europe/Zurich;VALUE=DATE-TIME:20240611T120000
DTSTAMP;VALUE=DATE-TIME:20260424T004951Z
UID:7efb5db832b8405996fb903fa7b9a062@127.0.0.1:6081
CREATED;VALUE=DATE-TIME:20240410T091801Z
LAST-MODIFIED;VALUE=DATE-TIME:20240410T091808Z
URL:https://gymnasium.ai.ch/nuetzliches/termine/muendliche-maturapruefunge
 n-vormittags-8
END:VEVENT
BEGIN:VTIMEZONE
TZID:Europe/Zurich
X-LIC-LOCATION:Europe/Zurich
BEGIN:DAYLIGHT
DTSTART;VALUE=DATE-TIME:20240331T030000
TZNAME:CEST
TZOFFSETFROM:+0100
TZOFFSETTO:+0200
END:DAYLIGHT
END:VTIMEZONE
END:VCALENDAR
