BEGIN:VCALENDAR
VERSION:2.0
PRODID:-//Plone.org//NONSGML plone.app.event//EN
X-WR-TIMEZONE:Europe/Zurich
BEGIN:VEVENT
SUMMARY:mündliche Maturaprüfungen\, vormittags
DTSTART;TZID=Europe/Zurich;VALUE=DATE-TIME:20240612T070000
DTEND;TZID=Europe/Zurich;VALUE=DATE-TIME:20240612T120000
DTSTAMP;VALUE=DATE-TIME:20260424T004952Z
UID:c90c9317761e48399571a965772e9139@127.0.0.1:6081
CREATED;VALUE=DATE-TIME:20240410T091959Z
LAST-MODIFIED;VALUE=DATE-TIME:20240410T092009Z
URL:https://gymnasium.ai.ch/nuetzliches/termine/muendliche-maturapruefunge
 n-vormittags-9
END:VEVENT
BEGIN:VTIMEZONE
TZID:Europe/Zurich
X-LIC-LOCATION:Europe/Zurich
BEGIN:DAYLIGHT
DTSTART;VALUE=DATE-TIME:20240331T030000
TZNAME:CEST
TZOFFSETFROM:+0100
TZOFFSETTO:+0200
END:DAYLIGHT
END:VTIMEZONE
END:VCALENDAR
