BEGIN:VCALENDAR
VERSION:2.0
PRODID:-//Plone.org//NONSGML plone.app.event//EN
X-WR-TIMEZONE:Europe/Zurich
BEGIN:VEVENT
SUMMARY:Mündliche Maturaprüfungen
DTSTART;VALUE=DATE-TIME:20180611T053000Z
DTEND;VALUE=DATE-TIME:20180612T143000Z
DTSTAMP;VALUE=DATE-TIME:20260423T231619Z
UID:167ca39dc624400faa9a13c78fccc602@127.0.0.1:10150
CREATED;VALUE=DATE-TIME:20180307T094315Z
LAST-MODIFIED;VALUE=DATE-TIME:20180308T065056Z
URL:https://gymnasium.ai.ch/nuetzliches/termine/muendliche-maturapruefunge
 n
END:VEVENT
END:VCALENDAR
