BEGIN:VCALENDAR
VERSION:2.0
PRODID:-//Plone.org//NONSGML plone.app.event//EN
X-WR-TIMEZONE:Europe/Zurich
BEGIN:VEVENT
SUMMARY:Nachprüfungstermin Grundbegabungstest Eintritt 1. Gym
DTSTART;VALUE=DATE-TIME:20180608T060000Z
DTEND;VALUE=DATE-TIME:20180608T100000Z
DTSTAMP;VALUE=DATE-TIME:20260423T231829Z
UID:18401d7b34b844739080be9b082c631e@127.0.0.1:10150
CREATED;VALUE=DATE-TIME:20180307T100505Z
LAST-MODIFIED;VALUE=DATE-TIME:20180511T065602Z
URL:https://gymnasium.ai.ch/nuetzliches/termine/nachpruefungstermin-grundb
 egabungstest-eintritt-1-gym
END:VEVENT
END:VCALENDAR
