BEGIN:VCALENDAR
VERSION:2.0
PRODID:-//Plone.org//NONSGML plone.app.event//EN
X-WR-TIMEZONE:Europe/Zurich
BEGIN:VEVENT
SUMMARY:Notenabgabe 1.-5. Gym
DTSTART;VALUE=DATE-TIME:20180627T100000Z
DTEND;VALUE=DATE-TIME:20180627T110000Z
DTSTAMP;VALUE=DATE-TIME:20260423T231511Z
UID:f522627a63534f7a83c17da273bcd123@127.0.0.1:10150
CREATED;VALUE=DATE-TIME:20180307T094726Z
LAST-MODIFIED;VALUE=DATE-TIME:20180308T065057Z
URL:https://gymnasium.ai.ch/nuetzliches/termine/notenabgabe-1-5-gym
END:VEVENT
END:VCALENDAR
