BEGIN:VCALENDAR
VERSION:2.0
PRODID:-//Plone.org//NONSGML plone.app.event//EN
X-WR-TIMEZONE:Europe/Zurich
BEGIN:VEVENT
SUMMARY:Notenabgabe 1.–5. Klassen
DTSTART;VALUE=DATE-TIME:20210629T100000Z
DTEND;VALUE=DATE-TIME:20210629T100000Z
DTSTAMP;VALUE=DATE-TIME:20260423T231514Z
UID:ace3ccf693e54f1e8665b3ce2a8464ca@127.0.0.1:10150
CREATED;VALUE=DATE-TIME:20210417T151129Z
LAST-MODIFIED;VALUE=DATE-TIME:20210417T151133Z
URL:https://gymnasium.ai.ch/nuetzliches/termine/notenabgabe-1-5-klassen
END:VEVENT
END:VCALENDAR
