BEGIN:VCALENDAR
VERSION:2.0
PRODID:-//Plone.org//NONSGML plone.app.event//EN
X-WR-TIMEZONE:Europe/Zurich
BEGIN:VEVENT
SUMMARY:Notenabgabe 1. - 6. Gym
DTSTART;VALUE=DATE-TIME:20200124T160000Z
DTEND;VALUE=DATE-TIME:20200124T160000Z
DTSTAMP;VALUE=DATE-TIME:20260423T231530Z
UID:8e0caee4e8db476faa6ae98ac56bd039@127.0.0.1:10150
CREATED;VALUE=DATE-TIME:20190707T120019Z
LAST-MODIFIED;VALUE=DATE-TIME:20190707T120024Z
URL:https://gymnasium.ai.ch/nuetzliches/termine/notenabgabe-1-6-gym
END:VEVENT
END:VCALENDAR
