BEGIN:VCALENDAR
VERSION:2.0
PRODID:-//Plone.org//NONSGML plone.app.event//EN
X-WR-TIMEZONE:Europe/Zurich
BEGIN:VEVENT
SUMMARY:Ostermontag (schulfrei)
DTSTART;VALUE=DATE:20240401
DTEND;VALUE=DATE:20240402
DTSTAMP;VALUE=DATE-TIME:20260423T231604Z
UID:80330c56449f4697a911d4146cc6135f@127.0.0.1:6081
CREATED;VALUE=DATE-TIME:20240202T155721Z
LAST-MODIFIED;VALUE=DATE-TIME:20240202T155726Z
URL:https://gymnasium.ai.ch/nuetzliches/termine/ostermontag-schulfrei-1
END:VEVENT
END:VCALENDAR
