BEGIN:VCALENDAR
VERSION:2.0
PRODID:-//Plone.org//NONSGML plone.app.event//EN
X-WR-TIMEZONE:Europe/Zurich
BEGIN:VEVENT
SUMMARY:Ostermontag (schulfrei)
DTSTART;VALUE=DATE:20250421
DTEND;VALUE=DATE:20250422
DTSTAMP;VALUE=DATE-TIME:20260424T004724Z
UID:17eaa47bfec548b2b8e540c04fe47494@127.0.0.1:6081
CREATED;VALUE=DATE-TIME:20240927T152854Z
LAST-MODIFIED;VALUE=DATE-TIME:20240927T152901Z
URL:https://gymnasium.ai.ch/nuetzliches/termine/ostermontag-schulfrei-2
END:VEVENT
END:VCALENDAR
