BEGIN:VCALENDAR
VERSION:2.0
PRODID:-//Plone.org//NONSGML plone.app.event//EN
X-WR-TIMEZONE:Europe/Zurich
BEGIN:VEVENT
SUMMARY:Ostermontag (schulfrei)
DTSTART;VALUE=DATE:20190421
DTEND;VALUE=DATE:20190423
DTSTAMP;VALUE=DATE-TIME:20260423T231523Z
UID:55c28e8d72d8424b9744b4a7e59b8609@127.0.0.1:10150
CREATED;VALUE=DATE-TIME:20190401T150536Z
LAST-MODIFIED;VALUE=DATE-TIME:20190401T150546Z
URL:https://gymnasium.ai.ch/nuetzliches/termine/ostermontag-schulfrei
END:VEVENT
END:VCALENDAR
