BEGIN:VCALENDAR
VERSION:2.0
PRODID:-//Plone.org//NONSGML plone.app.event//EN
X-WR-TIMEZONE:Europe/Zurich
BEGIN:VEVENT
SUMMARY:Ostern
DTSTART;VALUE=DATE:20180329
DTEND;VALUE=DATE:20180403
DTSTAMP;VALUE=DATE-TIME:20260423T231220Z
UID:ca8ca8ee987642d783a8cb243b33cc38@127.0.0.1:10150
CREATED;VALUE=DATE-TIME:20180301T065934Z
DESCRIPTION:schulfrei
LAST-MODIFIED;VALUE=DATE-TIME:20180301T065943Z
URL:https://gymnasium.ai.ch/nuetzliches/termine/ostern
END:VEVENT
END:VCALENDAR
