BEGIN:VCALENDAR
VERSION:2.0
PRODID:-//Plone.org//NONSGML plone.app.event//EN
X-WR-TIMEZONE:Europe/Zurich
BEGIN:VEVENT
SUMMARY:Penthesilea
DTSTART;VALUE=DATE:20180322
DTEND;VALUE=DATE:20180324
DTSTAMP;VALUE=DATE-TIME:20260423T231216Z
UID:86d62996caf347cdabca84469e364305@127.0.0.1:10150
CREATED;VALUE=DATE-TIME:20180301T065050Z
DESCRIPTION:Jubiläum 25 Jahre Penthesilea
LAST-MODIFIED;VALUE=DATE-TIME:20180301T065054Z
URL:https://gymnasium.ai.ch/nuetzliches/termine/penthesilea
END:VEVENT
END:VCALENDAR
