BEGIN:VCALENDAR
VERSION:2.0
PRODID:-//Plone.org//NONSGML plone.app.event//EN
X-WR-TIMEZONE:Europe/Zurich
BEGIN:VEVENT
SUMMARY:Pfingstmontag (schulfrei)
DTSTART;VALUE=DATE:20190609
DTEND;VALUE=DATE:20190611
DTSTAMP;VALUE=DATE-TIME:20260424T004852Z
UID:9dce86a192754255928e8c2369e2a0bf@127.0.0.1:10150
CREATED;VALUE=DATE-TIME:20181218T093052Z
LAST-MODIFIED;VALUE=DATE-TIME:20190131T074426Z
URL:https://gymnasium.ai.ch/nuetzliches/termine/pfingstmontag-schulfrei-1
END:VEVENT
END:VCALENDAR
